Package: HiCBricks Version: 1.24.0 Command: rm -rf HiCBricks.buildbin-libdir && mkdir HiCBricks.buildbin-libdir && /Users/biocbuild/BBS/utils/build-universal.sh HiCBricks_1.24.0.tar.gz /Library/Frameworks/R.framework/Resources/bin/R HiCBricks.buildbin-libdir StartedAt: 2025-02-05 16:12:27 -0500 (Wed, 05 Feb 2025) EndedAt: 2025-02-05 16:12:50 -0500 (Wed, 05 Feb 2025) EllapsedTime: 23.4 seconds RetCode: 0 Status: OK PackageFile: HiCBricks_1.24.0.tgz PackageFileSize: 9.083 MiB