Package: HiCBricks Version: 1.24.0 Command: /home/biocbuild/bbs-3.20-bioc/R/bin/R CMD build --keep-empty-dirs --no-resave-data --md5 HiCBricks StartedAt: 2025-02-10 17:39:53 -0500 (Mon, 10 Feb 2025) EndedAt: 2025-02-10 17:40:59 -0500 (Mon, 10 Feb 2025) EllapsedTime: 66.1 seconds RetCode: 0 Status: OK PackageFile: HiCBricks_1.24.0.tar.gz PackageFileSize: 5.136 MiB