Package: HiCBricks Version: 1.24.0 Command: /home/biocbuild/bbs-3.20-bioc/R/bin/R CMD INSTALL HiCBricks StartedAt: 2025-02-03 15:30:02 -0500 (Mon, 03 Feb 2025) EndedAt: 2025-02-03 15:30:17 -0500 (Mon, 03 Feb 2025) EllapsedTime: 14.8 seconds RetCode: 0 Status: OK