Package: HiCBricks Version: 1.24.0 Command: chmod a+r HiCBricks -R && F:\biocbuild\bbs-3.20-bioc\R\bin\R.exe CMD build --keep-empty-dirs --no-resave-data HiCBricks StartedAt: 2025-02-03 19:43:18 -0500 (Mon, 03 Feb 2025) EndedAt: 2025-02-03 19:45:57 -0500 (Mon, 03 Feb 2025) EllapsedTime: 159.7 seconds RetCode: 0 Status: OK PackageFile: HiCBricks_1.24.0.tar.gz PackageFileSize: 4.406 MiB