Package: HiCcompare Version: 1.28.0 Command: /Library/Frameworks/R.framework/Resources/bin/R CMD build --keep-empty-dirs --no-resave-data HiCcompare StartedAt: 2025-02-11 01:28:18 -0500 (Tue, 11 Feb 2025) EndedAt: 2025-02-11 01:29:35 -0500 (Tue, 11 Feb 2025) EllapsedTime: 77.4 seconds RetCode: 0 Status: OK PackageFile: HiCcompare_1.28.0.tar.gz PackageFileSize: 3.67 MiB