Package: HiCcompare Version: 1.28.0 Command: /home/biocbuild/bbs-3.20-bioc/R/bin/R CMD check --install=check:HiCcompare.install-out.txt --library=/home/biocbuild/bbs-3.20-bioc/R/site-library --timings HiCcompare_1.28.0.tar.gz StartedAt: 2025-02-10 23:01:06 -0500 (Mon, 10 Feb 2025) EndedAt: 2025-02-10 23:05:06 -0500 (Mon, 10 Feb 2025) EllapsedTime: 239.3 seconds RetCode: 0 Status: OK CheckDir: HiCcompare.Rcheck Warnings: 0