Package: HiCcompare Version: 1.28.0 Command: rm -rf HiCcompare.buildbin-libdir && mkdir HiCcompare.buildbin-libdir && F:\biocbuild\bbs-3.20-bioc\R\bin\R.exe CMD INSTALL --build --library=HiCcompare.buildbin-libdir HiCcompare_1.28.0.tar.gz StartedAt: 2025-02-11 08:38:45 -0500 (Tue, 11 Feb 2025) EndedAt: 2025-02-11 08:39:42 -0500 (Tue, 11 Feb 2025) EllapsedTime: 57.7 seconds RetCode: 0 Status: OK PackageFile: HiCcompare_1.28.0.zip PackageFileSize: 3.439 MiB