Package: HiContacts Version: 1.8.0 Command: /Library/Frameworks/R.framework/Resources/bin/R CMD check --install=check:HiContacts.install-out.txt --library=/Library/Frameworks/R.framework/Resources/library --no-vignettes --timings HiContacts_1.8.0.tar.gz StartedAt: 2025-01-31 21:53:32 -0500 (Fri, 31 Jan 2025) EndedAt: 2025-01-31 22:04:31 -0500 (Fri, 31 Jan 2025) EllapsedTime: 659.0 seconds RetCode: 0 Status: OK CheckDir: HiContacts.Rcheck Warnings: 0