Package: HiContacts Version: 1.8.0 Command: /Library/Frameworks/R.framework/Resources/bin/R CMD INSTALL HiContacts StartedAt: 2025-01-30 16:14:33 -0500 (Thu, 30 Jan 2025) EndedAt: 2025-01-30 16:15:06 -0500 (Thu, 30 Jan 2025) EllapsedTime: 33.5 seconds RetCode: 0 Status: OK