Package: HiContacts Version: 1.8.0 Command: rm -rf HiContacts.buildbin-libdir && mkdir HiContacts.buildbin-libdir && /Users/biocbuild/BBS/utils/build-universal.sh HiContacts_1.8.0.tar.gz /Library/Frameworks/R.framework/Resources/bin/R HiContacts.buildbin-libdir StartedAt: 2025-02-11 13:28:11 -0500 (Tue, 11 Feb 2025) EndedAt: 2025-02-11 13:29:58 -0500 (Tue, 11 Feb 2025) EllapsedTime: 106.4 seconds RetCode: 0 Status: OK PackageFile: HiContacts_1.8.0.tgz PackageFileSize: 5.531 MiB