Package: HiContacts Version: 1.8.0 Command: /Library/Frameworks/R.framework/Resources/bin/R CMD INSTALL HiContacts StartedAt: 2025-02-10 15:35:12 -0500 (Mon, 10 Feb 2025) EndedAt: 2025-02-10 15:36:13 -0500 (Mon, 10 Feb 2025) EllapsedTime: 61.1 seconds RetCode: 0 Status: OK