Package: HiCool Version: 1.6.0 Command: /Library/Frameworks/R.framework/Resources/bin/R CMD build --keep-empty-dirs --no-resave-data HiCool StartedAt: 2025-01-31 01:25:43 -0500 (Fri, 31 Jan 2025) EndedAt: 2025-01-31 01:27:03 -0500 (Fri, 31 Jan 2025) EllapsedTime: 79.8 seconds RetCode: 1 Status: ERROR PackageFile: None PackageFileSize: NA