Package: HiCool Version: 1.6.0 Command: /Library/Frameworks/R.framework/Resources/bin/R CMD build --keep-empty-dirs --no-resave-data HiCool StartedAt: 2025-02-03 19:35:48 -0500 (Mon, 03 Feb 2025) EndedAt: 2025-02-03 19:37:34 -0500 (Mon, 03 Feb 2025) EllapsedTime: 105.6 seconds RetCode: 1 Status: ERROR PackageFile: None PackageFileSize: NA