Package: HiCool Version: 1.6.0 Command: /home/biocbuild/bbs-3.20-bioc/R/bin/R CMD INSTALL HiCool StartedAt: 2025-01-30 15:33:54 -0500 (Thu, 30 Jan 2025) EndedAt: 2025-01-30 15:34:16 -0500 (Thu, 30 Jan 2025) EllapsedTime: 22.0 seconds RetCode: 0 Status: OK