Package: HiCool Version: 1.6.0 Command: /home/biocbuild/R/R/bin/R CMD build --keep-empty-dirs --no-resave-data HiCool StartedAt: 2025-01-31 00:17:05 -0000 (Fri, 31 Jan 2025) EndedAt: 2025-01-31 00:21:29 -0000 (Fri, 31 Jan 2025) EllapsedTime: 264.2 seconds RetCode: 1 Status: ERROR PackageFile: None PackageFileSize: NA