Package: HiLDA Version: 1.20.0 Command: /Library/Frameworks/R.framework/Resources/bin/R CMD build --keep-empty-dirs --no-resave-data HiLDA StartedAt: 2025-02-04 01:28:37 -0500 (Tue, 04 Feb 2025) EndedAt: 2025-02-04 01:32:41 -0500 (Tue, 04 Feb 2025) EllapsedTime: 243.8 seconds RetCode: 0 Status: OK PackageFile: HiLDA_1.20.0.tar.gz PackageFileSize: 2.46 MiB