Package: HiLDA Version: 1.20.0 Command: /Library/Frameworks/R.framework/Resources/bin/R CMD INSTALL HiLDA StartedAt: 2024-11-19 15:23:34 -0500 (Tue, 19 Nov 2024) EndedAt: 2024-11-19 15:23:55 -0500 (Tue, 19 Nov 2024) EllapsedTime: 21.2 seconds RetCode: 0 Status: OK