Package: HiLDA Version: 1.20.0 Command: /Library/Frameworks/R.framework/Resources/bin/R CMD check --install=check:HiLDA.install-out.txt --library=/Library/Frameworks/R.framework/Resources/library --no-vignettes --timings HiLDA_1.20.0.tar.gz StartedAt: 2025-02-11 04:42:38 -0500 (Tue, 11 Feb 2025) EndedAt: 2025-02-11 04:50:06 -0500 (Tue, 11 Feb 2025) EllapsedTime: 447.9 seconds RetCode: 0 Status: OK CheckDir: HiLDA.Rcheck Warnings: 0