Package: HiLDA Version: 1.20.0 Command: /home/biocbuild/bbs-3.20-bioc/R/bin/R CMD build --keep-empty-dirs --no-resave-data --md5 HiLDA StartedAt: 2025-02-03 17:48:47 -0500 (Mon, 03 Feb 2025) EndedAt: 2025-02-03 17:52:04 -0500 (Mon, 03 Feb 2025) EllapsedTime: 197.3 seconds RetCode: 0 Status: OK PackageFile: HiLDA_1.20.0.tar.gz PackageFileSize: 2.455 MiB