Package: HiLDA Version: 1.20.0 Command: /home/biocbuild/bbs-3.20-bioc/R/bin/R CMD INSTALL HiLDA StartedAt: 2025-02-10 15:31:38 -0500 (Mon, 10 Feb 2025) EndedAt: 2025-02-10 15:31:56 -0500 (Mon, 10 Feb 2025) EllapsedTime: 17.7 seconds RetCode: 0 Status: OK