Package: HiLDA Version: 1.20.0 Command: rm -rf HiLDA.buildbin-libdir && mkdir HiLDA.buildbin-libdir && F:\biocbuild\bbs-3.20-bioc\R\bin\R.exe CMD INSTALL --build --library=HiLDA.buildbin-libdir HiLDA_1.20.0.tar.gz StartedAt: 2025-02-04 08:42:02 -0500 (Tue, 04 Feb 2025) EndedAt: 2025-02-04 08:42:31 -0500 (Tue, 04 Feb 2025) EllapsedTime: 29.6 seconds RetCode: 0 Status: OK PackageFile: HiLDA_1.20.0.zip PackageFileSize: 2.854 MiB