Package: HiLDA Version: 1.20.0 Command: F:\biocbuild\bbs-3.20-bioc\R\bin\R.exe CMD INSTALL HiLDA StartedAt: 2025-02-03 16:58:20 -0500 (Mon, 03 Feb 2025) EndedAt: 2025-02-03 16:58:55 -0500 (Mon, 03 Feb 2025) EllapsedTime: 34.9 seconds RetCode: 0 Status: OK