Package: HiLDA Version: 1.20.0 Command: /home/biocbuild/R/R/bin/R CMD INSTALL HiLDA StartedAt: 2025-02-03 20:45:40 -0000 (Mon, 03 Feb 2025) EndedAt: 2025-02-03 20:45:46 -0000 (Mon, 03 Feb 2025) EllapsedTime: 6.1 seconds RetCode: 1 Status: ERROR