Package: HicAggR Version: 1.2.0 Command: /Library/Frameworks/R.framework/Resources/bin/R CMD check --install=check:HicAggR.install-out.txt --library=/Library/Frameworks/R.framework/Resources/library --no-vignettes --timings HicAggR_1.2.0.tar.gz StartedAt: 2025-02-04 22:20:55 -0500 (Tue, 04 Feb 2025) EndedAt: 2025-02-04 22:29:16 -0500 (Tue, 04 Feb 2025) EllapsedTime: 500.5 seconds RetCode: 0 Status: WARNINGS CheckDir: HicAggR.Rcheck Warnings: 1