Package: HicAggR Version: 1.2.0 Command: /Library/Frameworks/R.framework/Resources/bin/R CMD INSTALL HicAggR StartedAt: 2025-02-03 15:50:00 -0500 (Mon, 03 Feb 2025) EndedAt: 2025-02-03 15:50:32 -0500 (Mon, 03 Feb 2025) EllapsedTime: 32.2 seconds RetCode: 0 Status: OK