Package: HicAggR Version: 1.2.0 Command: rm -rf HicAggR.buildbin-libdir && mkdir HicAggR.buildbin-libdir && /Users/biocbuild/BBS/utils/build-universal.sh HicAggR_1.2.0.tar.gz /Library/Frameworks/R.framework/Resources/bin/R HicAggR.buildbin-libdir StartedAt: 2025-02-11 13:27:48 -0500 (Tue, 11 Feb 2025) EndedAt: 2025-02-11 13:29:33 -0500 (Tue, 11 Feb 2025) EllapsedTime: 104.7 seconds RetCode: 0 Status: OK PackageFile: HicAggR_1.2.0.tgz PackageFileSize: 3.237 MiB