Package: HicAggR Version: 1.2.0 Command: /home/biocbuild/bbs-3.20-bioc/R/bin/R CMD build --keep-empty-dirs --no-resave-data --md5 HicAggR StartedAt: 2025-02-03 17:47:13 -0500 (Mon, 03 Feb 2025) EndedAt: 2025-02-03 17:52:05 -0500 (Mon, 03 Feb 2025) EllapsedTime: 292.4 seconds RetCode: 0 Status: OK PackageFile: HicAggR_1.2.0.tar.gz PackageFileSize: 3.174 MiB