Package: HicAggR Version: 1.2.0 Command: /home/biocbuild/bbs-3.20-bioc/R/bin/R CMD INSTALL HicAggR StartedAt: 2025-02-03 15:30:29 -0500 (Mon, 03 Feb 2025) EndedAt: 2025-02-03 15:30:56 -0500 (Mon, 03 Feb 2025) EllapsedTime: 27.3 seconds RetCode: 0 Status: OK