Package: HicAggR Version: 1.2.0 Command: rm -rf HicAggR.buildbin-libdir && mkdir HicAggR.buildbin-libdir && F:\biocbuild\bbs-3.20-bioc\R\bin\R.exe CMD INSTALL --build --library=HicAggR.buildbin-libdir HicAggR_1.2.0.tar.gz StartedAt: 2025-02-04 08:41:33 -0500 (Tue, 04 Feb 2025) EndedAt: 2025-02-04 08:42:20 -0500 (Tue, 04 Feb 2025) EllapsedTime: 46.4 seconds RetCode: 0 Status: OK PackageFile: HicAggR_1.2.0.zip PackageFileSize: 2.92 MiB