Package: HicAggR Version: 1.2.0 Command: chmod a+r HicAggR -R && F:\biocbuild\bbs-3.20-bioc\R\bin\R.exe CMD build --keep-empty-dirs --no-resave-data HicAggR StartedAt: 2025-02-03 19:43:10 -0500 (Mon, 03 Feb 2025) EndedAt: 2025-02-03 19:49:46 -0500 (Mon, 03 Feb 2025) EllapsedTime: 395.5 seconds RetCode: 0 Status: OK PackageFile: HicAggR_1.2.0.tar.gz PackageFileSize: 3.009 MiB