Package: HicAggR Version: 1.2.0 Command: F:\biocbuild\bbs-3.20-bioc\R\bin\R.exe CMD check --no-multiarch --install=check:HicAggR.install-out.txt --library=F:\biocbuild\bbs-3.20-bioc\R\library --no-vignettes --timings HicAggR_1.2.0.tar.gz StartedAt: 2025-02-11 02:34:11 -0500 (Tue, 11 Feb 2025) EndedAt: 2025-02-11 02:43:37 -0500 (Tue, 11 Feb 2025) EllapsedTime: 565.7 seconds RetCode: 0 Status: WARNINGS CheckDir: HicAggR.Rcheck Warnings: 1