Package: HicAggR Version: 1.2.0 Command: /home/biocbuild/R/R/bin/R CMD build --keep-empty-dirs --no-resave-data HicAggR StartedAt: 2025-02-11 00:06:32 -0000 (Tue, 11 Feb 2025) EndedAt: 2025-02-11 00:12:14 -0000 (Tue, 11 Feb 2025) EllapsedTime: 342.2 seconds RetCode: 0 Status: OK PackageFile: HicAggR_1.2.0.tar.gz PackageFileSize: 2.878 MiB