Package: HicAggR Version: 1.2.0 Command: /home/biocbuild/R/R/bin/R CMD check --install=check:HicAggR.install-out.txt --library=/home/biocbuild/R/R/site-library --no-vignettes --timings HicAggR_1.2.0.tar.gz StartedAt: 2025-02-11 07:05:18 -0000 (Tue, 11 Feb 2025) EndedAt: 2025-02-11 07:16:19 -0000 (Tue, 11 Feb 2025) EllapsedTime: 661.6 seconds RetCode: 0 Status: WARNINGS CheckDir: HicAggR.Rcheck Warnings: 1