Package: HicAggR Version: 1.2.0 Command: /home/biocbuild/R/R/bin/R CMD INSTALL HicAggR StartedAt: 2025-02-10 20:26:49 -0000 (Mon, 10 Feb 2025) EndedAt: 2025-02-10 20:27:23 -0000 (Mon, 10 Feb 2025) EllapsedTime: 34.3 seconds RetCode: 0 Status: OK