Package: HilbertCurve Version: 2.0.0 Command: rm -rf HilbertCurve.buildbin-libdir && mkdir HilbertCurve.buildbin-libdir && /Users/biocbuild/BBS/utils/build-universal.sh HilbertCurve_2.0.0.tar.gz /Library/Frameworks/R.framework/Resources/bin/R HilbertCurve.buildbin-libdir StartedAt: 2025-02-05 16:13:20 -0500 (Wed, 05 Feb 2025) EndedAt: 2025-02-05 16:13:46 -0500 (Wed, 05 Feb 2025) EllapsedTime: 25.8 seconds RetCode: 0 Status: OK PackageFile: HilbertCurve_2.0.0.tgz PackageFileSize: 756.9 KiB