Package: HilbertCurve Version: 2.0.0 Command: /Library/Frameworks/R.framework/Resources/bin/R CMD check --install=check:HilbertCurve.install-out.txt --library=/Library/Frameworks/R.framework/Resources/library --no-vignettes --timings HilbertCurve_2.0.0.tar.gz StartedAt: 2025-02-04 22:30:01 -0500 (Tue, 04 Feb 2025) EndedAt: 2025-02-04 22:32:11 -0500 (Tue, 04 Feb 2025) EllapsedTime: 129.7 seconds RetCode: 0 Status: OK CheckDir: HilbertCurve.Rcheck Warnings: 0