Package: HilbertCurve Version: 2.0.0 Command: /Library/Frameworks/R.framework/Resources/bin/R CMD INSTALL HilbertCurve StartedAt: 2025-02-03 15:26:11 -0500 (Mon, 03 Feb 2025) EndedAt: 2025-02-03 15:26:34 -0500 (Mon, 03 Feb 2025) EllapsedTime: 22.7 seconds RetCode: 0 Status: OK