Package: HilbertCurve Version: 2.0.0 Command: rm -rf HilbertCurve.buildbin-libdir && mkdir HilbertCurve.buildbin-libdir && /Users/biocbuild/BBS/utils/build-universal.sh HilbertCurve_2.0.0.tar.gz /Library/Frameworks/R.framework/Resources/bin/R HilbertCurve.buildbin-libdir StartedAt: 2025-02-04 13:09:03 -0500 (Tue, 04 Feb 2025) EndedAt: 2025-02-04 13:09:57 -0500 (Tue, 04 Feb 2025) EllapsedTime: 53.2 seconds RetCode: 0 Status: OK PackageFile: HilbertCurve_2.0.0.tgz PackageFileSize: 748.4 KiB