Package: HilbertCurve Version: 2.0.0 Command: /Library/Frameworks/R.framework/Resources/bin/R CMD check --install=check:HilbertCurve.install-out.txt --library=/Library/Frameworks/R.framework/Resources/library --no-vignettes --timings HilbertCurve_2.0.0.tar.gz StartedAt: 2025-01-31 05:06:29 -0500 (Fri, 31 Jan 2025) EndedAt: 2025-01-31 05:10:59 -0500 (Fri, 31 Jan 2025) EllapsedTime: 269.9 seconds RetCode: 0 Status: OK CheckDir: HilbertCurve.Rcheck Warnings: 0