Package: HilbertCurve Version: 2.0.0 Command: /home/biocbuild/bbs-3.20-bioc/R/bin/R CMD INSTALL HilbertCurve StartedAt: 2025-02-03 15:19:21 -0500 (Mon, 03 Feb 2025) EndedAt: 2025-02-03 15:19:42 -0500 (Mon, 03 Feb 2025) EllapsedTime: 21.6 seconds RetCode: 0 Status: OK