Package: HilbertCurve Version: 2.0.0 Command: chmod a+r HilbertCurve -R && F:\biocbuild\bbs-3.20-bioc\R\bin\R.exe CMD build --keep-empty-dirs --no-resave-data HilbertCurve StartedAt: 2025-02-03 19:44:31 -0500 (Mon, 03 Feb 2025) EndedAt: 2025-02-03 19:45:55 -0500 (Mon, 03 Feb 2025) EllapsedTime: 84.0 seconds RetCode: 0 Status: OK PackageFile: HilbertCurve_2.0.0.tar.gz PackageFileSize: 407.7 KiB