Package: HilbertCurve Version: 2.0.0 Command: /home/biocbuild/R/R/bin/R CMD INSTALL HilbertCurve StartedAt: 2025-02-03 20:29:32 -0000 (Mon, 03 Feb 2025) EndedAt: 2025-02-03 20:30:05 -0000 (Mon, 03 Feb 2025) EllapsedTime: 32.4 seconds RetCode: 0 Status: OK