Package: HoloFoodR Version: 1.0.0 Command: /Library/Frameworks/R.framework/Resources/bin/R CMD build --keep-empty-dirs --no-resave-data HoloFoodR StartedAt: 2025-02-04 01:32:14 -0500 (Tue, 04 Feb 2025) EndedAt: 2025-02-04 01:34:24 -0500 (Tue, 04 Feb 2025) EllapsedTime: 129.9 seconds RetCode: 0 Status: OK PackageFile: HoloFoodR_1.0.0.tar.gz PackageFileSize: 2.966 MiB