Package: HoloFoodR Version: 1.0.0 Command: /Library/Frameworks/R.framework/Resources/bin/R CMD INSTALL HoloFoodR StartedAt: 2025-02-03 16:18:02 -0500 (Mon, 03 Feb 2025) EndedAt: 2025-02-03 16:18:39 -0500 (Mon, 03 Feb 2025) EllapsedTime: 36.9 seconds RetCode: 0 Status: OK