Package: HoloFoodR Version: 1.0.0 Command: /Library/Frameworks/R.framework/Resources/bin/R CMD build --keep-empty-dirs --no-resave-data HoloFoodR StartedAt: 2025-02-03 19:38:22 -0500 (Mon, 03 Feb 2025) EndedAt: 2025-02-03 19:42:20 -0500 (Mon, 03 Feb 2025) EllapsedTime: 237.7 seconds RetCode: 0 Status: OK PackageFile: HoloFoodR_1.0.0.tar.gz PackageFileSize: 2.966 MiB