Package: HoloFoodR Version: 1.0.0 Command: /Library/Frameworks/R.framework/Resources/bin/R CMD INSTALL HoloFoodR StartedAt: 2025-02-03 15:53:50 -0500 (Mon, 03 Feb 2025) EndedAt: 2025-02-03 15:54:51 -0500 (Mon, 03 Feb 2025) EllapsedTime: 61.1 seconds RetCode: 0 Status: OK