Package: HoloFoodR Version: 1.0.0 Command: /home/biocbuild/bbs-3.20-bioc/R/bin/R CMD check --install=check:HoloFoodR.install-out.txt --library=/home/biocbuild/bbs-3.20-bioc/R/site-library --timings HoloFoodR_1.0.0.tar.gz StartedAt: 2025-01-30 23:03:39 -0500 (Thu, 30 Jan 2025) EndedAt: 2025-01-30 23:10:37 -0500 (Thu, 30 Jan 2025) EllapsedTime: 417.5 seconds RetCode: 0 Status: OK CheckDir: HoloFoodR.Rcheck Warnings: 0