Package: HoloFoodR Version: 1.0.0 Command: /home/biocbuild/R/R/bin/R CMD build --keep-empty-dirs --no-resave-data HoloFoodR StartedAt: 2025-02-04 00:18:34 -0000 (Tue, 04 Feb 2025) EndedAt: 2025-02-04 00:22:04 -0000 (Tue, 04 Feb 2025) EllapsedTime: 210.1 seconds RetCode: 0 Status: OK PackageFile: HoloFoodR_1.0.0.tar.gz PackageFileSize: 2.988 MiB