Package: HubPub Version: 1.14.0 Command: rm -rf HubPub.buildbin-libdir && mkdir HubPub.buildbin-libdir && F:\biocbuild\bbs-3.20-bioc\R\bin\R.exe CMD INSTALL --build --library=HubPub.buildbin-libdir HubPub_1.14.0.tar.gz StartedAt: 2025-02-04 08:42:48 -0500 (Tue, 04 Feb 2025) EndedAt: 2025-02-04 08:43:03 -0500 (Tue, 04 Feb 2025) EllapsedTime: 15.4 seconds RetCode: 0 Status: OK PackageFile: HubPub_1.14.0.zip PackageFileSize: 959.7 KiB