Package: HubPub Version: 1.14.0 Command: chmod a+r HubPub -R && F:\biocbuild\bbs-3.20-bioc\R\bin\R.exe CMD build --keep-empty-dirs --no-resave-data HubPub StartedAt: 2025-02-10 19:40:50 -0500 (Mon, 10 Feb 2025) EndedAt: 2025-02-10 19:41:53 -0500 (Mon, 10 Feb 2025) EllapsedTime: 62.3 seconds RetCode: 0 Status: OK PackageFile: HubPub_1.14.0.tar.gz PackageFileSize: 1.301 MiB